BEGIN:VCALENDAR
VERSION:2.0
PRODID:-//Euroscale Modelling - ECPv6.1.4//NONSGML v1.0//EN
CALSCALE:GREGORIAN
METHOD:PUBLISH
X-WR-CALNAME:Euroscale Modelling
X-ORIGINAL-URL:https://euroscalemodelling.nl
X-WR-CALDESC:Events for Euroscale Modelling
REFRESH-INTERVAL;VALUE=DURATION:PT1H
X-Robots-Tag:noindex
X-PUBLISHED-TTL:PT1H
BEGIN:VTIMEZONE
TZID:Europe/Helsinki
BEGIN:DAYLIGHT
TZOFFSETFROM:+0200
TZOFFSETTO:+0300
TZNAME:EEST
DTSTART:20230326T010000
END:DAYLIGHT
BEGIN:STANDARD
TZOFFSETFROM:+0300
TZOFFSETTO:+0200
TZNAME:EET
DTSTART:20231029T010000
END:STANDARD
BEGIN:DAYLIGHT
TZOFFSETFROM:+0200
TZOFFSETTO:+0300
TZNAME:EEST
DTSTART:20240331T010000
END:DAYLIGHT
BEGIN:STANDARD
TZOFFSETFROM:+0300
TZOFFSETTO:+0200
TZNAME:EET
DTSTART:20241027T010000
END:STANDARD
TZID:UTC
BEGIN:STANDARD
TZOFFSETFROM:+0000
TZOFFSETTO:+0000
TZNAME:UTC
DTSTART:20220101T000000
END:STANDARD
END:VTIMEZONE
BEGIN:VEVENT
DTSTART;TZID=Europe/Helsinki:20241123T100000
DTEND;TZID=Europe/Helsinki:20241123T170000
DTSTAMP:20260423T220449
CREATED:20240328T154511Z
LAST-MODIFIED:20241022T110327Z
UID:10000011-1732356000-1732381200@euroscalemodelling.nl
SUMMARY:Ticket ESM 2024
DESCRIPTION:Bestel hier Uw ticket voor de Euro Scale Modelling: 7.000m2 plasticmodelbouw! \nIPMS-Nederland leden behoeven geen ticket meer te bestellen: immers\, op het lidmaatschapskaartje staat nu een QR-code. Zorg dus dat je je lidmaatschapskaartje mee hebt!\nStandbemanning die niet van tevoren is aangemeld en pas na 10.00 uur aankomt móet een ticket bestellen. De standhouders hebben bij inschrijving de mogelijkheid om namen van de standbemanning op te geven\, ook indien die geen lid zijn van de IPMS. \nToegang voor buitenlandse IPMS-leden is nog steeds gratis\, maar uiteraard kan het lidnummer niet geverifieerd worden. Buitenlandse IPMS-leden kunnen hun tickets via een mailtje naar de ESM-coördinator (Contact – Euroscale Modelling) aanvragen. Vermeld in dat mailtje Uw naam en lidnummer. \nNa bevestiging van de coördinator kan het ticket via deze pagina besteld worden. \nNaar aanleiding van opmerkingen hebben we de bestelprocedure bekeken: een gering aantal mensen drukte eerst op bestellen zonder eerst het aantal tickets in te vullen. Er staat nu een kleine instructie bij: eerst het aantal te bestellen tickets invullen\, daarna pas op de bestelknop drukken. \n 
URL:https://euroscalemodelling.nl/event/ticket-esm-2024/
END:VEVENT
BEGIN:VEVENT
DTSTART;TZID=Europe/Helsinki:20231125T100000
DTEND;TZID=Europe/Helsinki:20231125T170000
DTSTAMP:20260423T220449
CREATED:20230812T172916Z
LAST-MODIFIED:20231210T110347Z
UID:10000008-1700906400-1700931600@euroscalemodelling.nl
SUMMARY:Ticket ESM 2023
DESCRIPTION:Bestel hier Uw ticket voor de Euro Scale Modelling: 7.000m2 plasticmodelbouw! \nLet wel: iedereen\, dus ook IPMS leden die onderdeel zijn van een standbemanning móeten een ticket bestellen. Dit is\, zoals vorig jaar\, een eis van de Expo m.b.t. aanwezigheids-registratie in geval van een calamiteit. De standhouders zullen worden verzocht om de namen van de standbemanning op te geven die geen lid zijn van de IPMS. \nToegang voor buitenlandse IPMS-leden is nog steeds gratis\, maar uiteraard kan het lidnummer niet geverifieerd worden. Buitenlandse IPMS-leden kunnen hun tickets via een mailtje naar de ESM-coördinator (Contact – Euroscale Modelling) aanvragen. Vermeld in dat mailtje Uw naam en lidnummer. \nNa bevestiging van de coördinator kan het ticket via deze pagina besteld worden. \nVoor Nederlandse IPMS-leden: vul alle posities in lidnummer in\, dus voorzie je lidnummer van “voorloopnullen”\, b.v. bij lidnummer “539” vul in “00539“. \nNaar aanleiding van opmerkingen vorig jaar hebben we de bestelprocedure bekeken: een gering aantal mensen drukte eerst op bestellen zonder eerst het aantal tickets in te vullen. Er staat nu een kleine instructie bij: eerst het aantal te bestellen tickets invullen\, daarna pas op de bestelknop drukken. \n 
URL:https://euroscalemodelling.nl/event/ticket-esm-2023/
END:VEVENT
BEGIN:VEVENT
DTSTART;TZID=UTC:20221126T100000
DTEND;TZID=UTC:20221126T170000
DTSTAMP:20260423T220449
CREATED:20220811T101631Z
LAST-MODIFIED:20230313T102430Z
UID:10000004-1669456800-1669482000@euroscalemodelling.nl
SUMMARY:Ticket ESM2022!
DESCRIPTION:Bestel hier Uw ticket voor de Euro Scale Modelling 2022: 9.000m2 plasticmodelbouw! \nToegang voor buitenlandse IPMS-leden is nog steeds gratis\, maar uiteraard kan het lidnummer niet geverifieerd worden. Buitenlandse IPMS-leden kunnen hun tickets via een mailtje naar de ESM-coördinator (Contact – Euroscale Modelling) aanvragen. Vermeld in dat mailtje Uw naam en lidnummer. \nNa bevestiging van de coördinator kan het ticket via deze pagina besteld worden. \nVoor Nederlandse IPMS-leden: als je lid bent geworden vóór 2001\, moet je je lidnummer van “voorloopnullen” voorzien: b.v. bij lidnummer “539” vul in: “00539“. \n 
URL:https://euroscalemodelling.nl/event/esm2022/
LOCATION:Expo Houten\, Meidoornkade 24\, Houten\, Utrecht\, 3992AE\, Nederland
END:VEVENT
END:VCALENDAR