BEGIN:VCALENDAR
VERSION:2.0
PRODID:-//Euroscale Modelling - ECPv6.1.4//NONSGML v1.0//EN
CALSCALE:GREGORIAN
METHOD:PUBLISH
X-WR-CALNAME:Euroscale Modelling
X-ORIGINAL-URL:https://euroscalemodelling.nl/en/
X-WR-CALDESC:Events for Euroscale Modelling
REFRESH-INTERVAL;VALUE=DURATION:PT1H
X-Robots-Tag:noindex
X-PUBLISHED-TTL:PT1H
BEGIN:VTIMEZONE
TZID:Europe/Helsinki
BEGIN:DAYLIGHT
TZOFFSETFROM:+0200
TZOFFSETTO:+0300
TZNAME:EEST
DTSTART:20250330T010000
END:DAYLIGHT
BEGIN:STANDARD
TZOFFSETFROM:+0300
TZOFFSETTO:+0200
TZNAME:EET
DTSTART:20251026T010000
END:STANDARD
BEGIN:DAYLIGHT
TZOFFSETFROM:+0200
TZOFFSETTO:+0300
TZNAME:EEST
DTSTART:20260329T010000
END:DAYLIGHT
BEGIN:STANDARD
TZOFFSETFROM:+0300
TZOFFSETTO:+0200
TZNAME:EET
DTSTART:20261025T010000
END:STANDARD
BEGIN:DAYLIGHT
TZOFFSETFROM:+0200
TZOFFSETTO:+0300
TZNAME:EEST
DTSTART:20270328T010000
END:DAYLIGHT
BEGIN:STANDARD
TZOFFSETFROM:+0300
TZOFFSETTO:+0200
TZNAME:EET
DTSTART:20271031T010000
END:STANDARD
BEGIN:DAYLIGHT
TZOFFSETFROM:+0200
TZOFFSETTO:+0300
TZNAME:EEST
DTSTART:20280326T010000
END:DAYLIGHT
BEGIN:STANDARD
TZOFFSETFROM:+0300
TZOFFSETTO:+0200
TZNAME:EET
DTSTART:20281029T010000
END:STANDARD
BEGIN:DAYLIGHT
TZOFFSETFROM:+0200
TZOFFSETTO:+0300
TZNAME:EEST
DTSTART:20290325T010000
END:DAYLIGHT
BEGIN:STANDARD
TZOFFSETFROM:+0300
TZOFFSETTO:+0200
TZNAME:EET
DTSTART:20291028T010000
END:STANDARD
END:VTIMEZONE
BEGIN:VEVENT
DTSTART;TZID=Europe/Helsinki:20251129T100000
DTEND;TZID=Europe/Helsinki:20291129T170000
DTSTAMP:20260423T215856
CREATED:20250623T101938Z
LAST-MODIFIED:20250623T101938Z
UID:10000015-1764410400-1890666000@euroscalemodelling.nl
SUMMARY:Ticket ESM 2025
DESCRIPTION:Order your ticket for the Euro Scale Modeling: 7\,000m2 of plastic modeling here! \nIPMS-Netherlands members no longer need to order a ticket: after all\, on the membership card is now a QR code. So make sure you have your membership card with you! \nBooth crews who are not pre-registered and do not arrive until after 10:00 a.m. must order a ticket. Exhibitors will have the opportunity to provide names of booth crew when registering\, even if they are not members of the IPMS.  \nAccess for foreign IPMS members is still free\, but of course the member number cannot be verified. Foreign IPMS members can request their tickets via an email to the ESM coordinator(Contact – Euroscale Modelling). Mention in that mail your name and member number.   \nAfter confirmation from the coordinator\, the ticket can be ordered through this page. \n  \n 
URL:https://euroscalemodelling.nl/event/ticket-esm-2025/
END:VEVENT
BEGIN:VEVENT
DTSTART;TZID=Europe/Helsinki:20261128T100000
DTEND;TZID=Europe/Helsinki:20261128T170000
DTSTAMP:20260423T215856
CREATED:20260318T174101Z
LAST-MODIFIED:20260320T084555Z
UID:10000019-1795860000-1795885200@euroscalemodelling.nl
SUMMARY:Ticket ESM 2026
DESCRIPTION:Order your ticket for the Euro Scale Modeling: 7\,000m2 of plastic modeling here!  \nTickets ordered online are still €10.\nAt the box office they are €12.50! \n– IPMS-Netherlands members no longer need to order a ticket: after all\, the membership card now includes a QR code. So make sure you have your membership card with you! \n– Foreign IPMS members no longer need to request a ticket. You can simply enter with your foreign IPMS pass. \nStand crew who are not pre-registered and do not arrive until after 10 a.m. must order a ticket. Exhibitors will have the opportunity to provide names of booth crew when registering\, even if they are not members of the IPMS. \n  \n  \n 
URL:https://euroscalemodelling.nl/event/ticket-esm-2026/
END:VEVENT
END:VCALENDAR