BEGIN:VCALENDAR
VERSION:2.0
PRODID:-//Euroscale Modelling - ECPv6.1.4//NONSGML v1.0//EN
CALSCALE:GREGORIAN
METHOD:PUBLISH
X-WR-CALNAME:Euroscale Modelling
X-ORIGINAL-URL:https://euroscalemodelling.nl/de/
X-WR-CALDESC:Events for Euroscale Modelling
REFRESH-INTERVAL;VALUE=DURATION:PT1H
X-Robots-Tag:noindex
X-PUBLISHED-TTL:PT1H
BEGIN:VTIMEZONE
TZID:Europe/Helsinki
BEGIN:DAYLIGHT
TZOFFSETFROM:+0200
TZOFFSETTO:+0300
TZNAME:EEST
DTSTART:20250330T010000
END:DAYLIGHT
BEGIN:STANDARD
TZOFFSETFROM:+0300
TZOFFSETTO:+0200
TZNAME:EET
DTSTART:20251026T010000
END:STANDARD
BEGIN:DAYLIGHT
TZOFFSETFROM:+0200
TZOFFSETTO:+0300
TZNAME:EEST
DTSTART:20260329T010000
END:DAYLIGHT
BEGIN:STANDARD
TZOFFSETFROM:+0300
TZOFFSETTO:+0200
TZNAME:EET
DTSTART:20261025T010000
END:STANDARD
BEGIN:DAYLIGHT
TZOFFSETFROM:+0200
TZOFFSETTO:+0300
TZNAME:EEST
DTSTART:20270328T010000
END:DAYLIGHT
BEGIN:STANDARD
TZOFFSETFROM:+0300
TZOFFSETTO:+0200
TZNAME:EET
DTSTART:20271031T010000
END:STANDARD
BEGIN:DAYLIGHT
TZOFFSETFROM:+0200
TZOFFSETTO:+0300
TZNAME:EEST
DTSTART:20280326T010000
END:DAYLIGHT
BEGIN:STANDARD
TZOFFSETFROM:+0300
TZOFFSETTO:+0200
TZNAME:EET
DTSTART:20281029T010000
END:STANDARD
BEGIN:DAYLIGHT
TZOFFSETFROM:+0200
TZOFFSETTO:+0300
TZNAME:EEST
DTSTART:20290325T010000
END:DAYLIGHT
BEGIN:STANDARD
TZOFFSETFROM:+0300
TZOFFSETTO:+0200
TZNAME:EET
DTSTART:20291028T010000
END:STANDARD
END:VTIMEZONE
BEGIN:VEVENT
DTSTART;TZID=Europe/Helsinki:20251129T100000
DTEND;TZID=Europe/Helsinki:20291129T170000
DTSTAMP:20260424T010216
CREATED:20250623T102021Z
LAST-MODIFIED:20250623T102645Z
UID:10000016-1764410400-1890666000@euroscalemodelling.nl
SUMMARY:Eintrittskarten ESM 2025
DESCRIPTION:Bestellen Sie Ihr Ticket für die Euro Scale Modelling: 7.000m2 Plastikmodellbau hier! \nIPMS-Netherlands-Mitglieder brauchen keine Eintrittskarte mehr zu bestellen: Die Mitgliedskarte enthält jetzt nämlich einen QR-Code. Stellen Sie also sicher\, dass Sie Ihre Mitgliedskarte dabei haben!\nStandpersonal\, das nicht vorregistriert ist und erst nach 10 Uhr eintrifft\, muss ein Ticket bestellen. Die Aussteller haben die Möglichkeit\, bei der Anmeldung die Namen der Standbesatzung anzugeben\, auch wenn sie nicht Mitglied der IPMS sind. \nDer Zugang für ausländische IPMS-Mitglieder ist weiterhin kostenlos\, aber die Mitgliedsnummer kann natürlich nicht überprüft werden. Ausländische IPMS-Mitglieder können ihre Tickets per E-Mail an den ESM-Koordinator anfordern(Kontakt – Euroscale Modelling). In dieser E-Mail geben Sie bitte Ihren Namen und Ihre Mitgliedsnummer an. \nNach der Bestätigung durch den Koordinator kann das Ticket über diese Seite bestellt werden. \n  \n 
URL:https://euroscalemodelling.nl/event/fahrschein-esm-2025/
END:VEVENT
END:VCALENDAR